BEGIN:VCALENDAR
VERSION:2.0
PRODID:-//Buddy Boy Fine Barbeque - ECPv6.15.20//NONSGML v1.0//EN
CALSCALE:GREGORIAN
METHOD:PUBLISH
X-WR-CALNAME:Buddy Boy Fine Barbeque
X-ORIGINAL-URL:https://buddyboybarbeque.com
X-WR-CALDESC:Events for Buddy Boy Fine Barbeque
REFRESH-INTERVAL;VALUE=DURATION:PT1H
X-Robots-Tag:noindex
X-PUBLISHED-TTL:PT1H
BEGIN:VTIMEZONE
TZID:America/Chicago
BEGIN:DAYLIGHT
TZOFFSETFROM:-0600
TZOFFSETTO:-0500
TZNAME:CDT
DTSTART:20210314T080000
END:DAYLIGHT
BEGIN:STANDARD
TZOFFSETFROM:-0500
TZOFFSETTO:-0600
TZNAME:CST
DTSTART:20211107T070000
END:STANDARD
BEGIN:DAYLIGHT
TZOFFSETFROM:-0600
TZOFFSETTO:-0500
TZNAME:CDT
DTSTART:20220313T080000
END:DAYLIGHT
BEGIN:STANDARD
TZOFFSETFROM:-0500
TZOFFSETTO:-0600
TZNAME:CST
DTSTART:20221106T070000
END:STANDARD
BEGIN:DAYLIGHT
TZOFFSETFROM:-0600
TZOFFSETTO:-0500
TZNAME:CDT
DTSTART:20230312T080000
END:DAYLIGHT
BEGIN:STANDARD
TZOFFSETFROM:-0500
TZOFFSETTO:-0600
TZNAME:CST
DTSTART:20231105T070000
END:STANDARD
BEGIN:DAYLIGHT
TZOFFSETFROM:-0600
TZOFFSETTO:-0500
TZNAME:CDT
DTSTART:20240310T080000
END:DAYLIGHT
BEGIN:STANDARD
TZOFFSETFROM:-0500
TZOFFSETTO:-0600
TZNAME:CST
DTSTART:20241103T070000
END:STANDARD
END:VTIMEZONE
BEGIN:VTIMEZONE
TZID:UTC
BEGIN:STANDARD
TZOFFSETFROM:+0000
TZOFFSETTO:+0000
TZNAME:UTC
DTSTART:20210101T000000
END:STANDARD
END:VTIMEZONE
BEGIN:VEVENT
DTSTART;TZID=America/Chicago:20230715T190000
DTEND;TZID=America/Chicago:20230715T220000
DTSTAMP:20260421T035946
CREATED:20230131T211359Z
LAST-MODIFIED:20230216T001938Z
UID:10000527-1689447600-1689458400@buddyboybarbeque.com
SUMMARY:Olive Oly & the Salad Makers
DESCRIPTION:
URL:https://buddyboybarbeque.com/event/olive-oly-the-salad-makers/
LOCATION:MN
ATTACH;FMTTYPE=image/jpeg:https://buddyboybarbeque.com/wp-content/uploads/2022/07/IMG_20210517_132527296-scaled.jpg
END:VEVENT
BEGIN:VEVENT
DTSTART;TZID=America/Chicago:20230715T130000
DTEND;TZID=America/Chicago:20230715T160000
DTSTAMP:20260421T035946
CREATED:20230320T010648Z
LAST-MODIFIED:20230320T011127Z
UID:10000558-1689426000-1689436800@buddyboybarbeque.com
SUMMARY:Stillwater Ave
DESCRIPTION:
URL:https://buddyboybarbeque.com/event/stillwater-ave/
LOCATION:MN
ATTACH;FMTTYPE=image/jpeg:https://buddyboybarbeque.com/wp-content/uploads/2023/03/24550.jpeg
END:VEVENT
BEGIN:VEVENT
DTSTART;TZID=America/Chicago:20230708T190000
DTEND;TZID=America/Chicago:20230708T220000
DTSTAMP:20260421T035946
CREATED:20230131T184508Z
LAST-MODIFIED:20230628T145628Z
UID:10000526-1688842800-1688853600@buddyboybarbeque.com
SUMMARY:Big Toe & the Jam
DESCRIPTION:
URL:https://buddyboybarbeque.com/event/funk-bucket/
LOCATION:MN
ATTACH;FMTTYPE=image/jpeg:https://buddyboybarbeque.com/wp-content/uploads/2021/05/Big-toe-and-the-jam.jpg
END:VEVENT
BEGIN:VEVENT
DTSTART;TZID=America/Chicago:20230708T130000
DTEND;TZID=America/Chicago:20230708T160000
DTSTAMP:20260421T035946
CREATED:20230524T230350Z
LAST-MODIFIED:20230524T234059Z
UID:10000563-1688821200-1688832000@buddyboybarbeque.com
SUMMARY:All Good Company
DESCRIPTION:Photo and bio coming soon
URL:https://buddyboybarbeque.com/event/all-good-company/
LOCATION:MN
END:VEVENT
BEGIN:VEVENT
DTSTART;TZID=America/Chicago:20230704T143000
DTEND;TZID=America/Chicago:20230704T170000
DTSTAMP:20260421T035946
CREATED:20230216T013551Z
LAST-MODIFIED:20230216T013551Z
UID:10000551-1688481000-1688490000@buddyboybarbeque.com
SUMMARY:4th of July Parade
DESCRIPTION:Join the Buddy Boy Crew in Chanhassen’s festive parade. Parade begins at 2:30 end time unknown. see chanhassens event page for more information. \nPlease note we are not Open on Tuesdays. Have a safe and happy celebration!
URL:https://buddyboybarbeque.com/event/4th-of-july-parade/
LOCATION:MN
ATTACH;FMTTYPE=image/png:https://buddyboybarbeque.com/wp-content/uploads/2022/01/CC_4thJuly2016.png
END:VEVENT
BEGIN:VEVENT
DTSTART;TZID=America/Chicago:20230701T190000
DTEND;TZID=America/Chicago:20230701T220000
DTSTAMP:20260421T035946
CREATED:20230207T201746Z
LAST-MODIFIED:20230701T174038Z
UID:10000537-1688238000-1688248800@buddyboybarbeque.com
SUMMARY:
DESCRIPTION:Please accept our apologies as tonight’s featured guest has cancelled
URL:https://buddyboybarbeque.com/event/special-guest-artist/
LOCATION:MN
END:VEVENT
BEGIN:VEVENT
DTSTART;VALUE=DATE:20230701
DTEND;VALUE=DATE:20230702
DTSTAMP:20260421T035946
CREATED:20230216T011749Z
LAST-MODIFIED:20230216T012230Z
UID:10000549-1688169600-1688255999@buddyboybarbeque.com
SUMMARY:4th of July weekend
DESCRIPTION:
URL:https://buddyboybarbeque.com/event/4th-of-july-weekend/
LOCATION:MN
ATTACH;FMTTYPE=image/png:https://buddyboybarbeque.com/wp-content/uploads/2022/01/CC_4thJuly2016.png
END:VEVENT
BEGIN:VEVENT
DTSTART;TZID=America/Chicago:20230624T190000
DTEND;TZID=America/Chicago:20230624T220000
DTSTAMP:20260421T035946
CREATED:20230216T085356Z
LAST-MODIFIED:20230224T162323Z
UID:10000552-1687633200-1687644000@buddyboybarbeque.com
SUMMARY:Kendra Glenn Band
DESCRIPTION:
URL:https://buddyboybarbeque.com/event/kendra-glenn-band/
LOCATION:MN
ATTACH;FMTTYPE=image/jpeg:https://buddyboybarbeque.com/wp-content/uploads/2023/02/Gmail-profile-photo.jpg
END:VEVENT
BEGIN:VEVENT
DTSTART;TZID=America/Chicago:20230624T130000
DTEND;TZID=America/Chicago:20230624T160000
DTSTAMP:20260421T035946
CREATED:20230203T203837Z
LAST-MODIFIED:20230216T002135Z
UID:10000531-1687611600-1687622400@buddyboybarbeque.com
SUMMARY:Gravel Road
DESCRIPTION:
URL:https://buddyboybarbeque.com/event/gravel-road/
LOCATION:MN
ATTACH;FMTTYPE=image/jpeg:https://buddyboybarbeque.com/wp-content/uploads/2023/01/Flyer-1a.jpg
END:VEVENT
BEGIN:VEVENT
DTSTART;TZID=America/Chicago:20230617T190000
DTEND;TZID=America/Chicago:20230617T220000
DTSTAMP:20260421T035946
CREATED:20230205T150015Z
LAST-MODIFIED:20230216T002322Z
UID:10000533-1687028400-1687039200@buddyboybarbeque.com
SUMMARY:Vibronauts
DESCRIPTION:
URL:https://buddyboybarbeque.com/event/vibronauts/
LOCATION:MN
ATTACH;FMTTYPE=image/jpeg:https://buddyboybarbeque.com/wp-content/uploads/2023/01/best-vibronaut.jpeg
END:VEVENT
BEGIN:VEVENT
DTSTART;TZID=America/Chicago:20230617T130000
DTEND;TZID=America/Chicago:20230617T160000
DTSTAMP:20260421T035946
CREATED:20230524T224505Z
LAST-MODIFIED:20230524T224505Z
UID:10000562-1687006800-1687017600@buddyboybarbeque.com
SUMMARY:Scotty Reed
DESCRIPTION:
URL:https://buddyboybarbeque.com/event/scotty-reed/
LOCATION:MN
ATTACH;FMTTYPE=image/jpeg:https://buddyboybarbeque.com/wp-content/uploads/2023/01/SRB-21-4pc-251978508_10227069022618151_142326642894321611_n.jpg
END:VEVENT
BEGIN:VEVENT
DTSTART;VALUE=DATE:20230617
DTEND;VALUE=DATE:20230618
DTSTAMP:20260421T035946
CREATED:20230216T005312Z
LAST-MODIFIED:20230216T012758Z
UID:10000545-1686960000-1687046399@buddyboybarbeque.com
SUMMARY:Father's Day Weekend
DESCRIPTION:We are not open on Sunday but you can preorder pick up a great meal on Saturday
URL:https://buddyboybarbeque.com/event/fathers-day-pick-up-2/
LOCATION:MN
ATTACH;FMTTYPE=image/png:https://buddyboybarbeque.com/wp-content/uploads/2021/05/Untitled-design.png
END:VEVENT
BEGIN:VEVENT
DTSTART;TZID=America/Chicago:20230610T190000
DTEND;TZID=America/Chicago:20230610T220000
DTSTAMP:20260421T035946
CREATED:20230131T204646Z
LAST-MODIFIED:20230216T004347Z
UID:10000528-1686423600-1686434400@buddyboybarbeque.com
SUMMARY:Free Flight
DESCRIPTION:
URL:https://buddyboybarbeque.com/event/free-flight/
LOCATION:MN
ATTACH;FMTTYPE=image/jpeg:https://buddyboybarbeque.com/wp-content/uploads/2023/01/20868-1.jpeg
END:VEVENT
BEGIN:VEVENT
DTSTART;TZID=America/Chicago:20230610T130000
DTEND;TZID=America/Chicago:20230610T160000
DTSTAMP:20260421T035946
CREATED:20230216T003554Z
LAST-MODIFIED:20230216T003554Z
UID:10000544-1686402000-1686412800@buddyboybarbeque.com
SUMMARY:Joe Scott & Friends
DESCRIPTION:
URL:https://buddyboybarbeque.com/event/joe-scott-friends/
LOCATION:MN
ATTACH;FMTTYPE=image/jpeg:https://buddyboybarbeque.com/wp-content/uploads/2021/05/8006669304852865262.jpg
END:VEVENT
BEGIN:VEVENT
DTSTART;TZID=America/Chicago:20230603T190000
DTEND;TZID=America/Chicago:20230603T220000
DTSTAMP:20260421T035946
CREATED:20230131T182751Z
LAST-MODIFIED:20230131T183323Z
UID:10000521-1685818800-1685829600@buddyboybarbeque.com
SUMMARY:Echo
DESCRIPTION:Rock & Roll \nFeaturing outstanding lead singers and terrific vocal harmony\, ECHO will bring you to your feet with songs ranging from The Beatles to Bonnie Raitt to Little Bigtown.
URL:https://buddyboybarbeque.com/event/echo/
LOCATION:MN
ATTACH;FMTTYPE=image/jpeg:https://buddyboybarbeque.com/wp-content/uploads/2022/07/ECHO-logo.jpeg
END:VEVENT
BEGIN:VEVENT
DTSTART;TZID=America/Chicago:20230603T130000
DTEND;TZID=America/Chicago:20230603T160000
DTSTAMP:20260421T035946
CREATED:20230213T212054Z
LAST-MODIFIED:20230213T212054Z
UID:10000538-1685797200-1685808000@buddyboybarbeque.com
SUMMARY:Then there were 8
DESCRIPTION:
URL:https://buddyboybarbeque.com/event/then-there-were-8/
LOCATION:MN
ATTACH;FMTTYPE=image/jpeg:https://buddyboybarbeque.com/wp-content/uploads/2022/08/Image.jpeg
END:VEVENT
BEGIN:VEVENT
DTSTART;TZID=America/Chicago:20230527T170000
DTEND;TZID=America/Chicago:20230527T200000
DTSTAMP:20260421T035946
CREATED:20230213T213709Z
LAST-MODIFIED:20230224T163558Z
UID:10000540-1685206800-1685217600@buddyboybarbeque.com
SUMMARY:Magic Carpet
DESCRIPTION:
URL:https://buddyboybarbeque.com/event/magic-carpet-2/
LOCATION:MN
ATTACH;FMTTYPE=image/jpeg:https://buddyboybarbeque.com/wp-content/uploads/2022/06/290769144_476854044209102_3507809211519216318_n.jpg
END:VEVENT
BEGIN:VEVENT
DTSTART;VALUE=DATE:20230527
DTEND;VALUE=DATE:20230528
DTSTAMP:20260421T035946
CREATED:20230216T011200Z
LAST-MODIFIED:20230216T012704Z
UID:10000548-1685145600-1685231999@buddyboybarbeque.com
SUMMARY:Memorial Weekend
DESCRIPTION:We are not open Sunday or Monday but you can pick up a meal early
URL:https://buddyboybarbeque.com/event/memorial-day-pick-up/
LOCATION:MN
ATTACH;FMTTYPE=image/jpeg:https://buddyboybarbeque.com/wp-content/uploads/2023/02/memorialday-948x640-1.jpg
END:VEVENT
BEGIN:VEVENT
DTSTART;TZID=America/Chicago:20230520T170000
DTEND;TZID=America/Chicago:20230520T200000
DTSTAMP:20260421T035946
CREATED:20230131T213348Z
LAST-MODIFIED:20230203T211147Z
UID:10000525-1684602000-1684612800@buddyboybarbeque.com
SUMMARY:Eddie Mac
DESCRIPTION:
URL:https://buddyboybarbeque.com/event/eddie-mac/
LOCATION:MN
ATTACH;FMTTYPE=image/jpeg:https://buddyboybarbeque.com/wp-content/uploads/2022/07/image1.jpeg
END:VEVENT
BEGIN:VEVENT
DTSTART;TZID=America/Chicago:20230520T130000
DTEND;TZID=America/Chicago:20230520T160000
DTSTAMP:20260421T035946
CREATED:20230319T195746Z
LAST-MODIFIED:20230319T195746Z
UID:10000555-1684587600-1684598400@buddyboybarbeque.com
SUMMARY:Traveled Ground
DESCRIPTION:
URL:https://buddyboybarbeque.com/event/traveled-ground/
LOCATION:MN
ATTACH;FMTTYPE=image/jpeg:https://buddyboybarbeque.com/wp-content/uploads/2020/07/FB_IMG_1594145848779.jpg
END:VEVENT
BEGIN:VEVENT
DTSTART;VALUE=DATE:20230513
DTEND;VALUE=DATE:20230514
DTSTAMP:20260421T035946
CREATED:20230216T005524Z
LAST-MODIFIED:20230216T012732Z
UID:10000546-1683936000-1684022399@buddyboybarbeque.com
SUMMARY:Mother's Day Weekend
DESCRIPTION:
URL:https://buddyboybarbeque.com/event/mothers-day-pick-up-2/
LOCATION:MN
ATTACH;FMTTYPE=image/webp:https://buddyboybarbeque.com/wp-content/uploads/2023/02/happy-mothers-day-calligraphy-flower-260nw-622119491.webp
END:VEVENT
BEGIN:VEVENT
DTSTART;TZID=America/Chicago:20230510T110000
DTEND;TZID=America/Chicago:20230510T220000
DTSTAMP:20260421T035946
CREATED:20230414T011734Z
LAST-MODIFIED:20230414T011734Z
UID:10000559-1683716400-1683756000@buddyboybarbeque.com
SUMMARY:Grand Opening - new building
DESCRIPTION:
URL:https://buddyboybarbeque.com/event/grand-opening-new-building/
LOCATION:MN
END:VEVENT
BEGIN:VEVENT
DTSTART;VALUE=DATE:20230408
DTEND;VALUE=DATE:20230409
DTSTAMP:20260421T035946
CREATED:20230216T010958Z
LAST-MODIFIED:20230216T012628Z
UID:10000547-1680912000-1680998399@buddyboybarbeque.com
SUMMARY:Easter weekend
DESCRIPTION:
URL:https://buddyboybarbeque.com/event/easter-pick-up/
LOCATION:MN
ATTACH;FMTTYPE=image/webp:https://buddyboybarbeque.com/wp-content/uploads/2023/02/81889167.webp
END:VEVENT
BEGIN:VEVENT
DTSTART;TZID=America/Chicago:20230211T070000
DTEND;TZID=America/Chicago:20230211T200000
DTSTAMP:20260421T035946
CREATED:20221121T200346Z
LAST-MODIFIED:20221121T200346Z
UID:10000434-1676098800-1676145600@buddyboybarbeque.com
SUMMARY:Superbowl '23 pick up
DESCRIPTION:
URL:https://buddyboybarbeque.com/event/superbowl-23-pick-up/
LOCATION:Buddy Boy Fine Barbeque\, 8175 Highway 7\, Minnetrista\, MN\, 55387\, United States
ATTACH;FMTTYPE=image/jpeg:https://buddyboybarbeque.com/wp-content/uploads/2022/11/download.jpg
END:VEVENT
BEGIN:VEVENT
DTSTART;TZID=America/Chicago:20221231T070000
DTEND;TZID=America/Chicago:20221231T200000
DTSTAMP:20260421T035946
CREATED:20221203T034115Z
LAST-MODIFIED:20221203T034143Z
UID:10000518-1672470000-1672516800@buddyboybarbeque.com
SUMMARY:New Years Eve Dinner
DESCRIPTION:Stay tunned
URL:https://buddyboybarbeque.com/event/new-years-eve-dinner/
LOCATION:MN
END:VEVENT
BEGIN:VEVENT
DTSTART;VALUE=DATE:20221224
DTEND;VALUE=DATE:20221225
DTSTAMP:20260421T035946
CREATED:20221203T033810Z
LAST-MODIFIED:20221203T033933Z
UID:10000436-1671840000-1671926399@buddyboybarbeque.com
SUMMARY:Closed
DESCRIPTION:
URL:https://buddyboybarbeque.com/event/closed/
LOCATION:MN
END:VEVENT
BEGIN:VEVENT
DTSTART;TZID=America/Chicago:20221223T070000
DTEND;TZID=America/Chicago:20221223T200000
DTSTAMP:20260421T035946
CREATED:20220121T231433Z
LAST-MODIFIED:20220821T165850Z
UID:10000471-1671778800-1671825600@buddyboybarbeque.com
SUMMARY:Holiday Menu 2022
DESCRIPTION:
URL:https://buddyboybarbeque.com/event/holiday-menu-2022/
LOCATION:Buddy Boy Fine Barbeque\, 8175 Highway 7\, Minnetrista\, MN\, 55387\, United States
ATTACH;FMTTYPE=image/jpeg:https://buddyboybarbeque.com/wp-content/uploads/2015/02/20220120_184223-scaled.jpg
END:VEVENT
BEGIN:VEVENT
DTSTART;TZID=UTC:20221125T070000
DTEND;TZID=UTC:20221125T200000
DTSTAMP:20260421T035946
CREATED:20220304T012344Z
LAST-MODIFIED:20220821T165606Z
UID:10000491-1669359600-1669406400@buddyboybarbeque.com
SUMMARY:Black Friday
DESCRIPTION:SAVE the DATE!
URL:https://buddyboybarbeque.com/event/black-friday/
LOCATION:Buddy Boy Fine Barbeque\, 8175 Highway 7\, Minnetrista\, MN\, 55387\, United States
ATTACH;FMTTYPE=application/pdf:https://buddyboybarbeque.com/wp-content/uploads/2022/03/Untitled-design-11.pdf
END:VEVENT
BEGIN:VEVENT
DTSTART;TZID=UTC:20221124T070000
DTEND;TZID=UTC:20221124T120000
DTSTAMP:20260421T035946
CREATED:20220304T012251Z
LAST-MODIFIED:20220821T164914Z
UID:10000490-1669273200-1669291200@buddyboybarbeque.com
SUMMARY:Thanksgiving Preorder Pick up
DESCRIPTION:SAVE the DATE!
URL:https://buddyboybarbeque.com/event/thanksgiving-preorder-pick-up/
LOCATION:Buddy Boy Fine Barbeque\, 8175 Highway 7\, Minnetrista\, MN\, 55387\, United States
ATTACH;FMTTYPE=application/pdf:https://buddyboybarbeque.com/wp-content/uploads/2022/03/Untitled-design-12-2.pdf
END:VEVENT
BEGIN:VEVENT
DTSTART;TZID=America/Chicago:20221123T070000
DTEND;TZID=America/Chicago:20221123T200000
DTSTAMP:20260421T035946
CREATED:20220121T231000Z
LAST-MODIFIED:20220821T165433Z
UID:10000470-1669186800-1669233600@buddyboybarbeque.com
SUMMARY:Thanksgiving Menu 2022
DESCRIPTION:
URL:https://buddyboybarbeque.com/event/thanksgiving-menu-2022/
LOCATION:Buddy Boy Fine Barbeque\, 8175 Highway 7\, Minnetrista\, MN\, 55387\, United States
ATTACH;FMTTYPE=image/png:https://buddyboybarbeque.com/wp-content/uploads/2022/01/trk_breast_gravy_thnksgvng2020.png
END:VEVENT
END:VCALENDAR