BEGIN:VCALENDAR
VERSION:2.0
PRODID:-//Buddy Boy Fine Barbeque - ECPv6.15.20//NONSGML v1.0//EN
CALSCALE:GREGORIAN
METHOD:PUBLISH
X-WR-CALNAME:Buddy Boy Fine Barbeque
X-ORIGINAL-URL:https://buddyboybarbeque.com
X-WR-CALDESC:Events for Buddy Boy Fine Barbeque
REFRESH-INTERVAL;VALUE=DURATION:PT1H
X-Robots-Tag:noindex
X-PUBLISHED-TTL:PT1H
BEGIN:VTIMEZONE
TZID:America/Chicago
BEGIN:DAYLIGHT
TZOFFSETFROM:-0600
TZOFFSETTO:-0500
TZNAME:CDT
DTSTART:20220313T080000
END:DAYLIGHT
BEGIN:STANDARD
TZOFFSETFROM:-0500
TZOFFSETTO:-0600
TZNAME:CST
DTSTART:20221106T070000
END:STANDARD
BEGIN:DAYLIGHT
TZOFFSETFROM:-0600
TZOFFSETTO:-0500
TZNAME:CDT
DTSTART:20230312T080000
END:DAYLIGHT
BEGIN:STANDARD
TZOFFSETFROM:-0500
TZOFFSETTO:-0600
TZNAME:CST
DTSTART:20231105T070000
END:STANDARD
BEGIN:DAYLIGHT
TZOFFSETFROM:-0600
TZOFFSETTO:-0500
TZNAME:CDT
DTSTART:20240310T080000
END:DAYLIGHT
BEGIN:STANDARD
TZOFFSETFROM:-0500
TZOFFSETTO:-0600
TZNAME:CST
DTSTART:20241103T070000
END:STANDARD
END:VTIMEZONE
BEGIN:VEVENT
DTSTART;TZID=America/Chicago:20230708T130000
DTEND;TZID=America/Chicago:20230708T160000
DTSTAMP:20260423T053305
CREATED:20230524T230350Z
LAST-MODIFIED:20230524T234059Z
UID:10000563-1688821200-1688832000@buddyboybarbeque.com
SUMMARY:All Good Company
DESCRIPTION:Photo and bio coming soon
URL:https://buddyboybarbeque.com/event/all-good-company/
END:VEVENT
BEGIN:VEVENT
DTSTART;TZID=America/Chicago:20230708T190000
DTEND;TZID=America/Chicago:20230708T220000
DTSTAMP:20260423T053305
CREATED:20230131T184508Z
LAST-MODIFIED:20230628T145628Z
UID:10000526-1688842800-1688853600@buddyboybarbeque.com
SUMMARY:Big Toe & the Jam
DESCRIPTION:
URL:https://buddyboybarbeque.com/event/funk-bucket/
ATTACH;FMTTYPE=image/jpeg:https://buddyboybarbeque.com/wp-content/uploads/2021/05/Big-toe-and-the-jam.jpg
END:VEVENT
BEGIN:VEVENT
DTSTART;TZID=America/Chicago:20230715T130000
DTEND;TZID=America/Chicago:20230715T160000
DTSTAMP:20260423T053305
CREATED:20230320T010648Z
LAST-MODIFIED:20230320T011127Z
UID:10000558-1689426000-1689436800@buddyboybarbeque.com
SUMMARY:Stillwater Ave
DESCRIPTION:
URL:https://buddyboybarbeque.com/event/stillwater-ave/
ATTACH;FMTTYPE=image/jpeg:https://buddyboybarbeque.com/wp-content/uploads/2023/03/24550.jpeg
END:VEVENT
BEGIN:VEVENT
DTSTART;TZID=America/Chicago:20230715T190000
DTEND;TZID=America/Chicago:20230715T220000
DTSTAMP:20260423T053305
CREATED:20230131T211359Z
LAST-MODIFIED:20230216T001938Z
UID:10000527-1689447600-1689458400@buddyboybarbeque.com
SUMMARY:Olive Oly & the Salad Makers
DESCRIPTION:
URL:https://buddyboybarbeque.com/event/olive-oly-the-salad-makers/
ATTACH;FMTTYPE=image/jpeg:https://buddyboybarbeque.com/wp-content/uploads/2022/07/IMG_20210517_132527296-scaled.jpg
END:VEVENT
BEGIN:VEVENT
DTSTART;TZID=America/Chicago:20230722T130000
DTEND;TZID=America/Chicago:20230722T160000
DTSTAMP:20260423T053305
CREATED:20230213T213054Z
LAST-MODIFIED:20230214T133243Z
UID:10000539-1690030800-1690041600@buddyboybarbeque.com
SUMMARY:Magic Carpet
DESCRIPTION:
URL:https://buddyboybarbeque.com/event/magic-carpet/
ATTACH;FMTTYPE=image/jpeg:https://buddyboybarbeque.com/wp-content/uploads/2022/06/290769144_476854044209102_3507809211519216318_n.jpg
END:VEVENT
BEGIN:VEVENT
DTSTART;TZID=America/Chicago:20230722T190000
DTEND;TZID=America/Chicago:20230722T220000
DTSTAMP:20260423T053305
CREATED:20230205T201053Z
LAST-MODIFIED:20230205T201053Z
UID:10000535-1690052400-1690063200@buddyboybarbeque.com
SUMMARY:Eddie Mac
DESCRIPTION:
URL:https://buddyboybarbeque.com/event/eddie-mac-2/
ATTACH;FMTTYPE=image/jpeg:https://buddyboybarbeque.com/wp-content/uploads/2022/07/image1.jpeg
END:VEVENT
BEGIN:VEVENT
DTSTART;TZID=America/Chicago:20230729T130000
DTEND;TZID=America/Chicago:20230729T160000
DTSTAMP:20260423T053305
CREATED:20230131T231918Z
LAST-MODIFIED:20230131T231918Z
UID:10000524-1690635600-1690646400@buddyboybarbeque.com
SUMMARY:Chris Gess
DESCRIPTION:
URL:https://buddyboybarbeque.com/event/chris-gess/
ATTACH;FMTTYPE=image/jpeg:https://buddyboybarbeque.com/wp-content/uploads/2021/05/ChrisGess1.jpg
END:VEVENT
BEGIN:VEVENT
DTSTART;TZID=America/Chicago:20230729T190000
DTEND;TZID=America/Chicago:20230729T220000
DTSTAMP:20260423T053305
CREATED:20230131T182522Z
LAST-MODIFIED:20230216T001744Z
UID:10000520-1690657200-1690668000@buddyboybarbeque.com
SUMMARY:Scotty Reed Band
DESCRIPTION:
URL:https://buddyboybarbeque.com/event/scotty-reed-band/
ATTACH;FMTTYPE=image/jpeg:https://buddyboybarbeque.com/wp-content/uploads/2023/01/Embedded274f993c4b6d473a8f256bbff2314618.jpeg
END:VEVENT
BEGIN:VEVENT
DTSTART;TZID=America/Chicago:20230805T130000
DTEND;TZID=America/Chicago:20230805T160000
DTSTAMP:20260423T053305
CREATED:20230131T233006Z
LAST-MODIFIED:20230131T233119Z
UID:10000529-1691240400-1691251200@buddyboybarbeque.com
SUMMARY:Stomper Jazz Band
DESCRIPTION:
URL:https://buddyboybarbeque.com/event/chuck-devor/
ATTACH;FMTTYPE=image/jpeg:https://buddyboybarbeque.com/wp-content/uploads/2022/06/4239.jpeg
END:VEVENT
BEGIN:VEVENT
DTSTART;TZID=America/Chicago:20230805T190000
DTEND;TZID=America/Chicago:20230805T220000
DTSTAMP:20260423T053305
CREATED:20230716T100651Z
LAST-MODIFIED:20230801T200044Z
UID:10000566-1691262000-1691272800@buddyboybarbeque.com
SUMMARY:Tom Burnevik's TomTyme
DESCRIPTION:
URL:https://buddyboybarbeque.com/event/tom-thyme/
ATTACH;FMTTYPE=image/jpeg:https://buddyboybarbeque.com/wp-content/uploads/2022/07/TomBurnevikPic.jpg
END:VEVENT
BEGIN:VEVENT
DTSTART;TZID=America/Chicago:20230812T130000
DTEND;TZID=America/Chicago:20230812T160000
DTSTAMP:20260423T053305
CREATED:20230203T203921Z
LAST-MODIFIED:20230216T001651Z
UID:10000532-1691845200-1691856000@buddyboybarbeque.com
SUMMARY:Gravel Road
DESCRIPTION:
URL:https://buddyboybarbeque.com/event/gravel-road-2/
ATTACH;FMTTYPE=image/jpeg:https://buddyboybarbeque.com/wp-content/uploads/2023/01/Flyer-1a.jpg
END:VEVENT
BEGIN:VEVENT
DTSTART;TZID=America/Chicago:20230812T190000
DTEND;TZID=America/Chicago:20230812T220000
DTSTAMP:20260423T053305
CREATED:20230606T002614Z
LAST-MODIFIED:20230606T002614Z
UID:10000565-1691866800-1691877600@buddyboybarbeque.com
SUMMARY:Putz and the Morons
DESCRIPTION:Putz and the Morons is a 4-piece band that covers popular folk\, classic rock\, classic country\, and modern acoustic tunes. The 4-piece band heavily features guitar\, bass\, mandolin\, banjo\, and percussion for upbeat performances with full\, rich\, vocal harmonies with plenty of music for everyone to enjoy!
URL:https://buddyboybarbeque.com/event/putz-and-the-morons-2/
ATTACH;FMTTYPE=image/jpeg:https://buddyboybarbeque.com/wp-content/uploads/2023/06/IMG_1360-1.jpg
END:VEVENT
BEGIN:VEVENT
DTSTART;TZID=America/Chicago:20230816T190000
DTEND;TZID=America/Chicago:20230816T220000
DTSTAMP:20260423T053305
CREATED:20230817T020243Z
LAST-MODIFIED:20230817T020243Z
UID:10000567-1692212400-1692223200@buddyboybarbeque.com
SUMMARY:John Beck
DESCRIPTION:
URL:https://buddyboybarbeque.com/event/john-beck/
ATTACH;FMTTYPE=image/jpeg:https://buddyboybarbeque.com/wp-content/uploads/2023/01/Flyer-1a.jpg
END:VEVENT
BEGIN:VEVENT
DTSTART;TZID=America/Chicago:20230819T130000
DTEND;TZID=America/Chicago:20230819T160000
DTSTAMP:20260423T053305
CREATED:20230131T233333Z
LAST-MODIFIED:20230131T233333Z
UID:10000530-1692450000-1692460800@buddyboybarbeque.com
SUMMARY:Stompers Jazz Band
DESCRIPTION:
URL:https://buddyboybarbeque.com/event/stompers-jazz-band/
ATTACH;FMTTYPE=image/jpeg:https://buddyboybarbeque.com/wp-content/uploads/2022/06/4239.jpeg
END:VEVENT
BEGIN:VEVENT
DTSTART;TZID=America/Chicago:20230826T130000
DTEND;TZID=America/Chicago:20230826T160000
DTSTAMP:20260423T053305
CREATED:20230215T234502Z
LAST-MODIFIED:20230215T234502Z
UID:10000541-1693054800-1693065600@buddyboybarbeque.com
SUMMARY:Bogey's Blues Band
DESCRIPTION:
URL:https://buddyboybarbeque.com/event/bogeys-blues-band/
ATTACH;FMTTYPE=image/jpeg:https://buddyboybarbeque.com/wp-content/uploads/2021/05/Image-1.jpg
END:VEVENT
BEGIN:VEVENT
DTSTART;TZID=America/Chicago:20230826T190000
DTEND;TZID=America/Chicago:20230826T220000
DTSTAMP:20260423T053305
CREATED:20230319T195916Z
LAST-MODIFIED:20230319T195916Z
UID:10000556-1693076400-1693087200@buddyboybarbeque.com
SUMMARY:Traveled Ground
DESCRIPTION:
URL:https://buddyboybarbeque.com/event/traveled-ground-2/
ATTACH;FMTTYPE=image/jpeg:https://buddyboybarbeque.com/wp-content/uploads/2020/07/FB_IMG_1594146141134.jpg
END:VEVENT
BEGIN:VEVENT
DTSTART;VALUE=DATE:20230902
DTEND;VALUE=DATE:20230903
DTSTAMP:20260423T053305
CREATED:20230216T012058Z
LAST-MODIFIED:20230216T012122Z
UID:10000550-1693612800-1693699199@buddyboybarbeque.com
SUMMARY:Labor day weekend
DESCRIPTION:
URL:https://buddyboybarbeque.com/event/labor-day-weekend-2/
ATTACH;FMTTYPE=image/jpeg:https://buddyboybarbeque.com/wp-content/uploads/2023/02/360_F_285400902_3MxvI4X1S78JsGNzER97OH40D7ZqV3EO-1.jpg
END:VEVENT
BEGIN:VEVENT
DTSTART;TZID=America/Chicago:20230902T130000
DTEND;TZID=America/Chicago:20230902T160000
DTSTAMP:20260423T053305
CREATED:20230319T200117Z
LAST-MODIFIED:20230319T200117Z
UID:10000557-1693659600-1693670400@buddyboybarbeque.com
SUMMARY:Traveled Ground
DESCRIPTION:
URL:https://buddyboybarbeque.com/event/traveled-ground-3/
ATTACH;FMTTYPE=image/jpeg:https://buddyboybarbeque.com/wp-content/uploads/2020/07/FB_IMG_1594145848779.jpg
END:VEVENT
BEGIN:VEVENT
DTSTART;TZID=America/Chicago:20230902T190000
DTEND;TZID=America/Chicago:20230902T220000
DTSTAMP:20260423T053305
CREATED:20230131T182634Z
LAST-MODIFIED:20230216T001456Z
UID:10000519-1693681200-1693692000@buddyboybarbeque.com
SUMMARY:Scotty Reed Band
DESCRIPTION:
URL:https://buddyboybarbeque.com/event/scotty-reed-band-2/
ATTACH;FMTTYPE=image/jpeg:https://buddyboybarbeque.com/wp-content/uploads/2023/01/SRB-21-4pc-251978508_10227069022618151_142326642894321611_n.jpg
END:VEVENT
BEGIN:VEVENT
DTSTART;TZID=America/Chicago:20230909T130000
DTEND;TZID=America/Chicago:20230909T160000
DTSTAMP:20260423T053305
CREATED:20230131T232337Z
LAST-MODIFIED:20230131T232337Z
UID:10000522-1694264400-1694275200@buddyboybarbeque.com
SUMMARY:Chris Gess
DESCRIPTION:
URL:https://buddyboybarbeque.com/event/chris-gess-2/
ATTACH;FMTTYPE=image/jpeg:https://buddyboybarbeque.com/wp-content/uploads/2021/05/ChrisGess1.jpg
END:VEVENT
BEGIN:VEVENT
DTSTART;TZID=America/Chicago:20230909T190000
DTEND;TZID=America/Chicago:20230909T220000
DTSTAMP:20260423T053305
CREATED:20230131T182849Z
LAST-MODIFIED:20230131T183351Z
UID:10000523-1694286000-1694296800@buddyboybarbeque.com
SUMMARY:Echo
DESCRIPTION:Rock & Roll \nFeaturing outstanding lead singers and terrific vocal harmony\, ECHO will bring you to your feet with songs ranging from The Beatles to Bonnie Raitt to Little Bigtown.
URL:https://buddyboybarbeque.com/event/echo-2/
ATTACH;FMTTYPE=image/jpeg:https://buddyboybarbeque.com/wp-content/uploads/2022/07/ECHO-logo.jpeg
END:VEVENT
BEGIN:VEVENT
DTSTART;TZID=America/Chicago:20230916T130000
DTEND;TZID=America/Chicago:20230916T160000
DTSTAMP:20260423T053305
CREATED:20230215T234627Z
LAST-MODIFIED:20230215T234627Z
UID:10000542-1694869200-1694880000@buddyboybarbeque.com
SUMMARY:Bogey's Blues Band
DESCRIPTION:
URL:https://buddyboybarbeque.com/event/bogeys-blues-band-2/
ATTACH;FMTTYPE=image/jpeg:https://buddyboybarbeque.com/wp-content/uploads/2021/05/Image-1.jpg
END:VEVENT
BEGIN:VEVENT
DTSTART;TZID=America/Chicago:20230916T190000
DTEND;TZID=America/Chicago:20230916T220000
DTSTAMP:20260423T053305
CREATED:20230205T201229Z
LAST-MODIFIED:20230205T201229Z
UID:10000536-1694890800-1694901600@buddyboybarbeque.com
SUMMARY:Eddie Mac
DESCRIPTION:
URL:https://buddyboybarbeque.com/event/eddie-mac-3/
ATTACH;FMTTYPE=image/jpeg:https://buddyboybarbeque.com/wp-content/uploads/2022/07/image1.jpeg
END:VEVENT
BEGIN:VEVENT
DTSTART;TZID=America/Chicago:20230923T130000
DTEND;TZID=America/Chicago:20230923T160000
DTSTAMP:20260423T053305
CREATED:20230509T141102Z
LAST-MODIFIED:20230509T141213Z
UID:10000560-1695474000-1695484800@buddyboybarbeque.com
SUMMARY:Jason Paulson Band
DESCRIPTION:
URL:https://buddyboybarbeque.com/event/jason-paulson-band/
END:VEVENT
BEGIN:VEVENT
DTSTART;TZID=America/Chicago:20230930T130000
DTEND;TZID=America/Chicago:20230930T160000
DTSTAMP:20260423T053305
CREATED:20230227T232327Z
LAST-MODIFIED:20230227T232356Z
UID:10000554-1696078800-1696089600@buddyboybarbeque.com
SUMMARY:Dan Israel
DESCRIPTION:
URL:https://buddyboybarbeque.com/event/dan-israel-2/
ATTACH;FMTTYPE=image/jpeg:https://buddyboybarbeque.com/wp-content/uploads/2020/07/DanIsraelDSC_4659_StevenCohenPhoto-scaled.jpg
END:VEVENT
BEGIN:VEVENT
DTSTART;TZID=America/Chicago:20230930T190000
DTEND;TZID=America/Chicago:20230930T220000
DTSTAMP:20260423T053305
CREATED:20230205T155251Z
LAST-MODIFIED:20230205T155251Z
UID:10000534-1696100400-1696111200@buddyboybarbeque.com
SUMMARY:Selmer Effect
DESCRIPTION:
URL:https://buddyboybarbeque.com/event/selmer-effect/
ATTACH;FMTTYPE=image/jpeg:https://buddyboybarbeque.com/wp-content/uploads/2022/07/293197487_537760294514442_4046768713728068636_n.jpg
END:VEVENT
BEGIN:VEVENT
DTSTART;TZID=America/Chicago:20231007T130000
DTEND;TZID=America/Chicago:20231007T160000
DTSTAMP:20260423T053305
CREATED:20230606T001520Z
LAST-MODIFIED:20230606T001520Z
UID:10000564-1696683600-1696694400@buddyboybarbeque.com
SUMMARY:Putz and the Morons
DESCRIPTION:Putz and the Morons is a 4-piece band that covers popular folk\, classic rock\, classic country\, and modern acoustic tunes. The 4-piece band heavily features guitar\, bass\, mandolin\, banjo\, and percussion for upbeat performances with full\, rich\, vocal harmonies with plenty of music for everyone to enjoy!
URL:https://buddyboybarbeque.com/event/putz-and-the-morons/
ATTACH;FMTTYPE=image/jpeg:https://buddyboybarbeque.com/wp-content/uploads/2023/06/IMG_1360-1.jpg
END:VEVENT
BEGIN:VEVENT
DTSTART;VALUE=DATE:20231014
DTEND;VALUE=DATE:20231015
DTSTAMP:20260423T053305
CREATED:20230216T090025Z
LAST-MODIFIED:20230706T193721Z
UID:10000553-1697241600-1697327999@buddyboybarbeque.com
SUMMARY:Fall Festival
DESCRIPTION:Pottery sale!
URL:https://buddyboybarbeque.com/event/fall-festival-2/
END:VEVENT
BEGIN:VEVENT
DTSTART;TZID=America/Chicago:20231014T130000
DTEND;TZID=America/Chicago:20231014T160000
DTSTAMP:20260423T053305
CREATED:20230216T002759Z
LAST-MODIFIED:20230216T002759Z
UID:10000543-1697288400-1697299200@buddyboybarbeque.com
SUMMARY:Polka
DESCRIPTION:
URL:https://buddyboybarbeque.com/event/polka/
END:VEVENT
BEGIN:VEVENT
DTSTART;TZID=America/Chicago:20231014T190000
DTEND;TZID=America/Chicago:20231014T220000
DTSTAMP:20260423T053305
CREATED:20230509T141613Z
LAST-MODIFIED:20230509T141613Z
UID:10000561-1697310000-1697320800@buddyboybarbeque.com
SUMMARY:Jason Paulson Band
DESCRIPTION:
URL:https://buddyboybarbeque.com/event/jason-paulson-band-2/
END:VEVENT
END:VCALENDAR